BEGIN:VCALENDAR
VERSION:2.0
PRODID:-//eventon.com NONSGML v1.0//EN
CALSCALE:GREGORIAN
METHOD:PUBLISH
BEGIN:VEVENT
UID:69ecc3c509907
DTSTAMP:20260425T133813Z
DTSTART:20261008T070000Z
DTEND:20261008T130000Z
LOCATION:
SUMMARY:ASGE - Clôture
DESCRIPTION:ASGE - Clôture\nhttps://golf-entreprise-ara.org/wpara/events/a
 sge-cloture/
URL:https://golf-entreprise-ara.org/wpara/events/asge-cloture/
END:VEVENT
END:VCALENDAR